BEGIN:VCALENDAR
VERSION:2.0
PRODID:-//Staging - Adopters for Adoption - ECPv6.15.20//NONSGML v1.0//EN
CALSCALE:GREGORIAN
METHOD:PUBLISH
X-WR-CALNAME:Staging - Adopters for Adoption
X-ORIGINAL-URL:https://a4a.polarisstaging.co.uk
X-WR-CALDESC:Events for Staging - Adopters for Adoption
REFRESH-INTERVAL;VALUE=DURATION:PT1H
X-Robots-Tag:noindex
X-PUBLISHED-TTL:PT1H
BEGIN:VTIMEZONE
TZID:Europe/London
BEGIN:DAYLIGHT
TZOFFSETFROM:+0000
TZOFFSETTO:+0100
TZNAME:BST
DTSTART:20250330T010000
END:DAYLIGHT
BEGIN:STANDARD
TZOFFSETFROM:+0100
TZOFFSETTO:+0000
TZNAME:GMT
DTSTART:20251026T010000
END:STANDARD
BEGIN:DAYLIGHT
TZOFFSETFROM:+0000
TZOFFSETTO:+0100
TZNAME:BST
DTSTART:20260329T010000
END:DAYLIGHT
BEGIN:STANDARD
TZOFFSETFROM:+0100
TZOFFSETTO:+0000
TZNAME:GMT
DTSTART:20261025T010000
END:STANDARD
BEGIN:DAYLIGHT
TZOFFSETFROM:+0000
TZOFFSETTO:+0100
TZNAME:BST
DTSTART:20270328T010000
END:DAYLIGHT
BEGIN:STANDARD
TZOFFSETFROM:+0100
TZOFFSETTO:+0000
TZNAME:GMT
DTSTART:20271031T010000
END:STANDARD
END:VTIMEZONE
BEGIN:VEVENT
DTSTART;TZID=Europe/London:20260430T183000
DTEND;TZID=Europe/London:20260430T193000
DTSTAMP:20260419T153907
CREATED:20220715T161119Z
LAST-MODIFIED:20220715T161119Z
UID:3233-1777573800-1777577400@a4a.polarisstaging.co.uk
SUMMARY:Virtual Fostering Information Event 30th April
DESCRIPTION:
URL:https://a4a.polarisstaging.co.uk/event/virtual-fostering-information-events-30-04-2026/
LOCATION:...
ATTACH;FMTTYPE=:
END:VEVENT
BEGIN:VEVENT
DTSTART;TZID=Europe/London:20260514T130000
DTEND;TZID=Europe/London:20260514T140000
DTSTAMP:20260419T153907
CREATED:20251125T115528Z
LAST-MODIFIED:20251125T115528Z
UID:6984-1778763600-1778767200@a4a.polarisstaging.co.uk
SUMMARY:Virtual Fostering Information Event 14th May 2026
DESCRIPTION:
URL:https://a4a.polarisstaging.co.uk/event/virtual-fostering-information-event-14th-may-2026/
LOCATION:...
ATTACH;FMTTYPE=:
END:VEVENT
BEGIN:VEVENT
DTSTART;TZID=Europe/London:20260528T183000
DTEND;TZID=Europe/London:20260528T193000
DTSTAMP:20260419T153907
CREATED:20220715T114405Z
LAST-MODIFIED:20220715T114405Z
UID:3179-1779993000-1779996600@a4a.polarisstaging.co.uk
SUMMARY:Virtual Fostering Information Event 28th May 2026
DESCRIPTION:
URL:https://a4a.polarisstaging.co.uk/event/virtual-fostering-information-events-28-05-2026/
LOCATION:...
CATEGORIES:Information
ATTACH;FMTTYPE=:
END:VEVENT
BEGIN:VEVENT
DTSTART;TZID=Europe/London:20260611T130000
DTEND;TZID=Europe/London:20260611T140000
DTSTAMP:20260419T153907
CREATED:20251125T115731Z
LAST-MODIFIED:20251125T115731Z
UID:6987-1781182800-1781186400@a4a.polarisstaging.co.uk
SUMMARY:Virtual Fostering Information Event 11th June 2026
DESCRIPTION:
URL:https://a4a.polarisstaging.co.uk/event/virtual-fostering-information-event-11th-june-2026/
LOCATION:...
ATTACH;FMTTYPE=:
END:VEVENT
BEGIN:VEVENT
DTSTART;TZID=Europe/London:20260625T183000
DTEND;TZID=Europe/London:20260625T193000
DTSTAMP:20260419T153907
CREATED:20221128T164624Z
LAST-MODIFIED:20221128T164624Z
UID:5333-1782412200-1782415800@a4a.polarisstaging.co.uk
SUMMARY:Virtual Fostering Information Event 25th June 2026
DESCRIPTION:
URL:https://a4a.polarisstaging.co.uk/event/virtual-fostering-information-events-25-06-2026/
LOCATION:...
ATTACH;FMTTYPE=:
END:VEVENT
BEGIN:VEVENT
DTSTART;TZID=Europe/London:20260709T130000
DTEND;TZID=Europe/London:20260709T140000
DTSTAMP:20260419T153907
CREATED:20251125T144647Z
LAST-MODIFIED:20251125T144647Z
UID:6991-1783602000-1783605600@a4a.polarisstaging.co.uk
SUMMARY:Virtual Fostering Information Event 9th July 2026
DESCRIPTION:
URL:https://a4a.polarisstaging.co.uk/event/virtual-fostering-information-event-9th-july-2026/
LOCATION:...
ATTACH;FMTTYPE=:
END:VEVENT
BEGIN:VEVENT
DTSTART;TZID=Europe/London:20260730T183000
DTEND;TZID=Europe/London:20261029T193000
DTSTAMP:20260419T153907
CREATED:20221128T164142Z
LAST-MODIFIED:20221128T164142Z
UID:5329-1785436200-1793302200@a4a.polarisstaging.co.uk
SUMMARY:Virtual Fostering Information Event 30th July 2026
DESCRIPTION:
URL:https://a4a.polarisstaging.co.uk/event/virtual-fostering-information-events-30-07-2026/
LOCATION:...
ATTACH;FMTTYPE=:
END:VEVENT
BEGIN:VEVENT
DTSTART;TZID=Europe/London:20260813T130000
DTEND;TZID=Europe/London:20260813T140000
DTSTAMP:20260419T153907
CREATED:20251125T144806Z
LAST-MODIFIED:20251125T144806Z
UID:6994-1786626000-1786629600@a4a.polarisstaging.co.uk
SUMMARY:Virtual Fostering Information Event 13th August 2026
DESCRIPTION:
URL:https://a4a.polarisstaging.co.uk/event/virtual-fostering-information-event-13th-august-2026/
LOCATION:...
ATTACH;FMTTYPE=:
END:VEVENT
BEGIN:VEVENT
DTSTART;TZID=Europe/London:20260827T183000
DTEND;TZID=Europe/London:20260827T193000
DTSTAMP:20260419T153907
CREATED:20251124T161443Z
LAST-MODIFIED:20251124T161443Z
UID:6963-1787855400-1787859000@a4a.polarisstaging.co.uk
SUMMARY:Virtual Fostering Information Event 27th August 2026
DESCRIPTION:
URL:https://a4a.polarisstaging.co.uk/event/virtual-fostering-information-events-27-08-2026/
LOCATION:...
ATTACH;FMTTYPE=:
END:VEVENT
BEGIN:VEVENT
DTSTART;TZID=Europe/London:20260910T130000
DTEND;TZID=Europe/London:20260910T140000
DTSTAMP:20260419T153907
CREATED:20251125T145002Z
LAST-MODIFIED:20251125T145002Z
UID:6998-1789045200-1789048800@a4a.polarisstaging.co.uk
SUMMARY:Virtual Fostering Information Event 10th September 2026
DESCRIPTION:
URL:https://a4a.polarisstaging.co.uk/event/virtual-fostering-information-event-10th-september-2026/
LOCATION:...
ATTACH;FMTTYPE=:
END:VEVENT
BEGIN:VEVENT
DTSTART;TZID=Europe/London:20260924T183000
DTEND;TZID=Europe/London:20260924T193000
DTSTAMP:20260419T153907
CREATED:20251124T161627Z
LAST-MODIFIED:20251124T161627Z
UID:6965-1790274600-1790278200@a4a.polarisstaging.co.uk
SUMMARY:Virtual Fostering Information Event 24th September 2026
DESCRIPTION:
URL:https://a4a.polarisstaging.co.uk/event/virtual-fostering-information-event-24th-september-2026/
LOCATION:...
ATTACH;FMTTYPE=:
END:VEVENT
BEGIN:VEVENT
DTSTART;TZID=Europe/London:20261008T130000
DTEND;TZID=Europe/London:20261008T140000
DTSTAMP:20260419T153907
CREATED:20251125T145147Z
LAST-MODIFIED:20251125T145147Z
UID:7001-1791464400-1791468000@a4a.polarisstaging.co.uk
SUMMARY:Virtual Fostering Information Event 8th October 2026
DESCRIPTION:
URL:https://a4a.polarisstaging.co.uk/event/virtual-fostering-information-event-8th-october-2026/
LOCATION:...
ATTACH;FMTTYPE=:
END:VEVENT
BEGIN:VEVENT
DTSTART;TZID=Europe/London:20261029T183000
DTEND;TZID=Europe/London:20261029T193000
DTSTAMP:20260419T153907
CREATED:20220812T132825Z
LAST-MODIFIED:20220812T132825Z
UID:4477-1793298600-1793302200@a4a.polarisstaging.co.uk
SUMMARY:Virtual Fostering Information Event 29th October 2026
DESCRIPTION:
URL:https://a4a.polarisstaging.co.uk/event/virtual-fostering-information-events-29-10-2026/
LOCATION:...
CATEGORIES:Information
ATTACH;FMTTYPE=:
END:VEVENT
BEGIN:VEVENT
DTSTART;TZID=Europe/London:20261112T130000
DTEND;TZID=Europe/London:20261112T130000
DTSTAMP:20260419T153907
CREATED:20251125T145347Z
LAST-MODIFIED:20251125T145347Z
UID:7004-1794488400-1794488400@a4a.polarisstaging.co.uk
SUMMARY:Virtual Fostering Information Event 12th November 2026
DESCRIPTION:
URL:https://a4a.polarisstaging.co.uk/event/virtual-fostering-information-event-12th-november-2026/
LOCATION:...
ATTACH;FMTTYPE=:
END:VEVENT
BEGIN:VEVENT
DTSTART;TZID=Europe/London:20261126T183000
DTEND;TZID=Europe/London:20261126T193000
DTSTAMP:20260419T153907
CREATED:20251124T161731Z
LAST-MODIFIED:20251124T161731Z
UID:6968-1795717800-1795721400@a4a.polarisstaging.co.uk
SUMMARY:Virtual Fostering Information Event 26th November 2026
DESCRIPTION:
URL:https://a4a.polarisstaging.co.uk/event/virtual-fostering-information-event-26th-november-2026/
LOCATION:...
ATTACH;FMTTYPE=:
END:VEVENT
BEGIN:VEVENT
DTSTART;TZID=Europe/London:20261210T130000
DTEND;TZID=Europe/London:20261210T140000
DTSTAMP:20260419T153907
CREATED:20251125T145853Z
LAST-MODIFIED:20251125T145853Z
UID:7007-1796907600-1796911200@a4a.polarisstaging.co.uk
SUMMARY:Virtual Fostering Information Event 10th December 2026
DESCRIPTION:
URL:https://a4a.polarisstaging.co.uk/event/virtual-fostering-information-event-10th-december-2026/
LOCATION:...
ATTACH;FMTTYPE=:
END:VEVENT
END:VCALENDAR